BEGIN:VCALENDAR
VERSION:2.0
PRODID:-//wp-events-plugin.com//6.6.3//EN
BEGIN:VEVENT
UID:5@schuetzen-mehlbruch.de
DTSTART;TZID=Europe/Berlin:20260117T173000
DTEND;TZID=Europe/Berlin:20260117T233000
DTSTAMP:20250410T075832Z
URL:https://schuetzen-mehlbruch.de/?event=schuetzensitzung-am-17-januar-20
 26
SUMMARY:Schützensitzung am 17. Januar 2026
DESCRIPTION:Kempes Finest\, Big Maggas\, das Tanzcorps Colonia Rut Wiess un
 d viele weitere Hochkaräter des Karnevals geben sich bei der Närrischen 
 Hubertushalle die Klinke in die Hand: Jetzt schon einmal den Termin vormer
 ken und Tickets kaufen:\n\nSamstag\, 17. Januar 2026\n\nEinlass ab 16:30 U
 hr - Beginn ab 17:30 Uhr\n\nKarten zum Preis von 37 Euro gibt es ab dem 5.
  April 2025 unter dem folgenden Link:\n\nhttps://schtzenbruderschaftmehlbr
 uchgieslenberg.jeckticket.de/
ATTACH;FMTTYPE=image/jpeg:https://schuetzen-mehlbruch.de/wp-content/upload
 s/2025/03/FFDA9A88-294F-446E-B5F9-A92E8E4F7F05.jpeg
LOCATION:Hubertushalle\, Rheindorfer Str. 187\, Lagenfeld\, 40764\, Deutsch
 land
X-APPLE-STRUCTURED-LOCATION;VALUE=URI;X-ADDRESS=Rheindorfer Str. 187\, Lage
 nfeld\, 40764\, Deutschland;X-APPLE-RADIUS=100;X-TITLE=Hubertushalle:geo:0
 ,0
END:VEVENT
BEGIN:VTIMEZONE
TZID:Europe/Berlin
X-LIC-LOCATION:Europe/Berlin
BEGIN:STANDARD
DTSTART:20251026T020000
TZOFFSETFROM:+0200
TZOFFSETTO:+0100
TZNAME:CET
END:STANDARD
END:VTIMEZONE
END:VCALENDAR