BEGIN:VCALENDAR
VERSION:2.0
PRODID:-//wp-events-plugin.com//6.6.3//EN
BEGIN:VEVENT
UID:4@schuetzen-mehlbruch.de
DTSTART;TZID=Europe/Berlin:20250630T111100
DTEND;TZID=Europe/Berlin:20250630T235900
DTSTAMP:20250203T130050Z
URL:https://schuetzen-mehlbruch.de/?event=schuetzenfest-montag-koenigsschi
 essen
SUMMARY:Schützenfest Montag / Königsschießen
DESCRIPTION:Das Highlight des Festwochenendes.\n\nKönigsschießen und Jung
 prinzenschießen ab 12:00 Uhr
ATTACH;FMTTYPE=image/jpeg:https://schuetzen-mehlbruch.de/wp-content/upload
 s/2024/07/IMG_2841-225x300-1.jpeg
LOCATION:Hubertushalle\, Rheindorfer Str. 187\, Lagenfeld\, 40764\, Deutsch
 land
X-APPLE-STRUCTURED-LOCATION;VALUE=URI;X-ADDRESS=Rheindorfer Str. 187\, Lage
 nfeld\, 40764\, Deutschland;X-APPLE-RADIUS=100;X-TITLE=Hubertushalle:geo:0
 ,0
END:VEVENT
BEGIN:VTIMEZONE
TZID:Europe/Berlin
X-LIC-LOCATION:Europe/Berlin
BEGIN:DAYLIGHT
DTSTART:20250330T030000
TZOFFSETFROM:+0100
TZOFFSETTO:+0200
TZNAME:CEST
END:DAYLIGHT
END:VTIMEZONE
END:VCALENDAR