BEGIN:VCALENDAR
VERSION:2.0
PRODID:-//wp-events-plugin.com//6.6.3//EN
BEGIN:VEVENT
UID:6@schuetzen-mehlbruch.de
DTSTART;TZID=Europe/Berlin:20270109T164500
DTEND;TZID=Europe/Berlin:20270109T233000
DTSTAMP:20260113T103212Z
URL:https://schuetzen-mehlbruch.de/?event=bereits-jetzt-tickets-sichern-na
 errische-hubertushalle-2027
SUMMARY:Bereits jetzt Tickets sichern: Närrische Hubertushalle 2027
DESCRIPTION:Euch hat es bei uns gefallen? Dann könnt Ihr bereits jetzt ein
  Ticket für die "Närrische Hubertushalle" für das nächste Jahr ordern!
  Denn am Samstag (9. Januar 2027) feiern wir in der Hubertushalle wieder u
 nsere Schützensitzung! Mit dabei sind im nächsten Jahr unter anderem Mil
 jö\, Planschemalöör und die Tante Käthe Band!\n\nAlso\, nichts wie ran
  und Tickets vorbestellen - und zwar unter dem folgenden Link!\n\nhttps://
 schtzenbruderschaftmehlbruchgieslenberg.jeckticket.de/event/5c136ec7-9c12-
 4bdc-90de-d461c7b9548c/\n\n
END:VEVENT
BEGIN:VTIMEZONE
TZID:Europe/Berlin
X-LIC-LOCATION:Europe/Berlin
BEGIN:STANDARD
DTSTART:20261025T020000
TZOFFSETFROM:+0200
TZOFFSETTO:+0100
TZNAME:CET
END:STANDARD
END:VTIMEZONE
END:VCALENDAR